BEGIN:VCALENDAR
VERSION:2.0
PRODID:-//Erin Stewart – Republican for Governor 2026 - ECPv6.15.17.1//NONSGML v1.0//EN
CALSCALE:GREGORIAN
METHOD:PUBLISH
X-ORIGINAL-URL:https://erinforct.com
X-WR-CALDESC:Events for Erin Stewart – Republican for Governor 2026
REFRESH-INTERVAL;VALUE=DURATION:PT1H
X-Robots-Tag:noindex
X-PUBLISHED-TTL:PT1H
BEGIN:VTIMEZONE
TZID:America/New_York
BEGIN:DAYLIGHT
TZOFFSETFROM:-0500
TZOFFSETTO:-0400
TZNAME:EDT
DTSTART:20250309T070000
END:DAYLIGHT
BEGIN:STANDARD
TZOFFSETFROM:-0400
TZOFFSETTO:-0500
TZNAME:EST
DTSTART:20251102T060000
END:STANDARD
BEGIN:DAYLIGHT
TZOFFSETFROM:-0500
TZOFFSETTO:-0400
TZNAME:EDT
DTSTART:20260308T070000
END:DAYLIGHT
BEGIN:STANDARD
TZOFFSETFROM:-0400
TZOFFSETTO:-0500
TZNAME:EST
DTSTART:20261101T060000
END:STANDARD
BEGIN:DAYLIGHT
TZOFFSETFROM:-0500
TZOFFSETTO:-0400
TZNAME:EDT
DTSTART:20270314T070000
END:DAYLIGHT
BEGIN:STANDARD
TZOFFSETFROM:-0400
TZOFFSETTO:-0500
TZNAME:EST
DTSTART:20271107T060000
END:STANDARD
END:VTIMEZONE
BEGIN:VEVENT
DTSTART;TZID=America/New_York:20260427T180000
DTEND;TZID=America/New_York:20260427T200000
DTSTAMP:20260421T185612
CREATED:20260403T150521Z
LAST-MODIFIED:20260403T150521Z
UID:7798-1777312800-1777320000@erinforct.com
SUMMARY:Meet and Greet with Erin E. Stewart
DESCRIPTION:This FREE\, family friendly event is open to the public and is a great opportunity to meet Mayor Erin Stewart to learn more about her campaign for Governor of Connecticut! There will be a cash bar\, appetizers & snacks will be provided.
URL:https://erinforct.com/event/meet-and-greet-with-erin-e-stewart/
LOCATION:Portuguese Cultural Center\, 65 Sand Pit Road\, Danbury\, CT\, 06811\, United States
ATTACH;FMTTYPE=image/jpeg:https://erinforct.com/wp-content/uploads/2026/04/meet-greet-graphics-1.jpg
END:VEVENT
END:VCALENDAR